BEGIN:VCALENDAR
VERSION:2.0
PRODID:-//https://www.ehbodocent.eu///NONSGML kigkonsult.se iCalcreator 2.10.15//
METHOD:PUBLISH
BEGIN:VEVENT
UID:20260424T140846UTC-7084mEPufn@https://www.ehbodocent.eu/
DTSTAMP:20260424T140846Z
DESCRIPTION:&nbsp\;\n\n\n\n\n\nLET OP: om gebruik te kunnen maken van het v
 erlaagde ledentarief dient u eerst in te loggen met uw NODE account.\n\n\n
 Datum:\nZaterdag 9 mei 2026\n\n\n(P)BLS/AED:\n09:00 - 17:00 uur (leden € 1
 30\,- / niet-leden € 250\,-)\n\n\n\n\n\n\nPlaats:\nActiviteitencentrum De 
 Slotjes\n\n\n\nSlotjesveld 15\n\n\n\n4902 ZP Oosterhout\n\n\n\n\n\n&nbsp\;
  https://www.ehbodocent.eu/scholing/p-bls-aed-i-nrr/aanmelden/alle-p-bls-s
 cholingen/evenement/574-nrr-i-vervolgcursus-oosterhout-20260509
DTSTART:20260509T070000Z
DTEND:20260509T150000Z
LOCATION:Activiteitencentrum De Slotjes (Slotjesveld 15\, 4902 ZP  Oosterho
 ut\, Nederland)
SUMMARY:NRR-I vervolgcursus Oosterhout 20260509
URL:https://www.ehbodocent.eu/scholing/p-bls-aed-i-nrr/aanmelden/alle-p-bls
 -scholingen/evenement/574-nrr-i-vervolgcursus-oosterhout-20260509
END:VEVENT
BEGIN:VEVENT
UID:20260424T140846UTC-7088bLPtdG@https://www.ehbodocent.eu/
DTSTAMP:20260424T140846Z
DESCRIPTION:&nbsp\;\n\n\n\n\n\nLET OP: om gebruik te kunnen maken van het v
 erlaagde ledentarief dient u eerst in te loggen met uw NODE account.\n\n\n
 Datum:\nZaterdag 20 juni 2026\n\n\n(P)BLS/AED:\n09:00 - 17:00 uur (leden €
  130\,- / niet-leden € 250\,-)\n\n\n\n\n\n\nPlaats:\nActiviteitencentrum D
 e Slotjes\n\n\n\nSlotjesveld 15\n\n\n\n4902 ZP Oosterhout\n\n\n\n\n\n&nbsp
 \; https://www.ehbodocent.eu/scholing/p-bls-aed-i-nrr/aanmelden/alle-p-bls
 -scholingen/evenement/575-nrr-i-vervolgcursus-oosterhout-20260620
DTSTART:20260620T070000Z
DTEND:20260620T150000Z
LOCATION:Activiteitencentrum De Slotjes (Slotjesveld 15\, 4902 ZP  Oosterho
 ut\, Nederland)
SUMMARY:NRR-I vervolgcursus Oosterhout 20260620
URL:https://www.ehbodocent.eu/scholing/p-bls-aed-i-nrr/aanmelden/alle-p-bls
 -scholingen/evenement/575-nrr-i-vervolgcursus-oosterhout-20260620
END:VEVENT
BEGIN:VEVENT
UID:20260424T140846UTC-7092KUvm44@https://www.ehbodocent.eu/
DTSTAMP:20260424T140846Z
DESCRIPTION:&nbsp\;\n\n\n\n\n\n\n\n\n\nLET OP: om gebruik te kunnen maken v
 an het verlaagde ledentarief dient u eerst in te loggen met uw NODE accoun
 t.\n\n\n\n\nDatum:\n\n\nZaterdag 6 juni 2026\n\n\n\n\n(P)BLS/AED:\n\n\n08:
 30 - 16:30 uur&nbsp\;(leden € 130\,- / niet-leden € 250\,-)\n\n\n\n\nPlaat
 s:\n\n\nRode Kruis Fryslân\n\n\n\n\n\n\n\nCelsiusweg 39\n\n\n\n\n\n\n\n891
 2 AM Leeuwarden\n\n\n\n\n\n\n\n\n\n\n\n\n\n\n\n&nbsp\; https://www.ehbodoc
 ent.eu/scholing/p-bls-aed-i-nrr/aanmelden/alle-p-bls-scholingen/evenement/
 583-nrr-i-vervolgcursus-leeuwarden-20260606
DTSTART:20260606T063000Z
DTEND:20260606T143000Z
LOCATION:Rode Kruis gebouw Leeuwarden (Celsiusweg 39\, 8912 AM Leeuwarden\,
  Nederland)
SUMMARY:NRR-I vervolgcursus Leeuwarden 20260606
URL:https://www.ehbodocent.eu/scholing/p-bls-aed-i-nrr/aanmelden/alle-p-bls
 -scholingen/evenement/583-nrr-i-vervolgcursus-leeuwarden-20260606
END:VEVENT
BEGIN:VEVENT
UID:20260424T140846UTC-7095STV9vN@https://www.ehbodocent.eu/
DTSTAMP:20260424T140846Z
DESCRIPTION:&nbsp\;\n\n\n\n\n\nLET OP: om gebruik te kunnen maken van het v
 erlaagde ledentarief dient u eerst in te loggen met uw NODE account.\n\n\n
 Datum:\nZaterdag 16 mei 2026\n\n\n(P)BLS/AED:\n09:00 - 17:00 uur&nbsp\;(le
 den € 130\,- / niet-leden € 250\,-)\n\n\n\nRode Kruis gebouw Hoofddorp\n\n
 \n\nNieuweweg 33b\n\n\n\n2132 CK Hoofddorp\n\n\n\n\n\n&nbsp\; https://www.
 ehbodocent.eu/scholing/p-bls-aed-i-nrr/aanmelden/alle-p-bls-scholingen/eve
 nement/590-nrr-i-vervolgcursus-hoofddorp-20260516
DTSTART:20260516T070000Z
DTEND:20260516T150000Z
LOCATION:Rode Kruis gebouw Hoofddorp (Nieuweweg 33B\, 2132 CK Hoofddorp\, N
 ederland)
SUMMARY:NRR-I vervolgcursus Hoofddorp 20260516
URL:https://www.ehbodocent.eu/scholing/p-bls-aed-i-nrr/aanmelden/alle-p-bls
 -scholingen/evenement/590-nrr-i-vervolgcursus-hoofddorp-20260516
END:VEVENT
BEGIN:VEVENT
UID:20260424T140846UTC-7098lLggUF@https://www.ehbodocent.eu/
DTSTAMP:20260424T140846Z
DESCRIPTION:&nbsp\;\n\n\n\n\n\nLET OP: om gebruik te kunnen maken van het v
 erlaagde ledentarief dient u eerst in te loggen met uw NODE account.\n\n\n
 Datum:\nZaterdag 23 mei 2026\n\n\n(P)BLS/AED:\n8:30 - 16:30 uur (leden € 1
 30\,- / niet-leden € 250\,-)\n\n\n\n\n\n\nPlaats:\nKNV EHBO Deventer\n\n\n
 \nEnkstraat 60\n\n\n\n7413 TR Deventer\n\n\n\n\n\n&nbsp\; https://www.ehbo
 docent.eu/scholing/p-bls-aed-i-nrr/aanmelden/alle-p-bls-scholingen/eveneme
 nt/594-nrr-i-vervolgcursus-deventer-20260523
DTSTART:20260523T063000Z
DTEND:20260523T143000Z
LOCATION:KNV EHBO Deventer (Enkstraat 60\, 7413 TR Deventer\, Nederland)
SUMMARY:NRR-I vervolgcursus Deventer 20260523
URL:https://www.ehbodocent.eu/scholing/p-bls-aed-i-nrr/aanmelden/alle-p-bls
 -scholingen/evenement/594-nrr-i-vervolgcursus-deventer-20260523
END:VEVENT
END:VCALENDAR
