BEGIN:VCALENDAR
VERSION:2.0
PRODID:-//https://www.ehbodocent.eu///NONSGML kigkonsult.se iCalcreator 2.10.15//
METHOD:PUBLISH
BEGIN:VEVENT
UID:20260424T154707UTC-9976OuLl4R@https://www.ehbodocent.eu/
DTSTAMP:20260424T154707Z
DESCRIPTION:&nbsp\;\n\n\n\n\n\nLET OP: om gebruik te kunnen maken van het v
 erlaagde ledentarief dient u eerst in te loggen met uw NODE account.\n\n\n
 Datum:\nZaterdag 23 mei 2026\n\n\n(P)BLS/AED:\n8:30 - 16:30 uur (leden € 1
 30\,- / niet-leden € 250\,-)\n\n\n\n\n\n\nPlaats:\nKNV EHBO Deventer\n\n\n
 \nEnkstraat 60\n\n\n\n7413 TR Deventer\n\n\n\n\n\n&nbsp\; https://www.ehbo
 docent.eu/scholing/p-bls-aed-i-nrr/aanmelden/alle-p-bls-scholingen/eveneme
 nt/594-nrr-i-vervolgcursus-deventer-20260523
DTSTART:20260523T063000Z
DTEND:20260523T143000Z
LOCATION:KNV EHBO Deventer (Enkstraat 60\, 7413 TR Deventer\, Nederland)
SUMMARY:NRR-I vervolgcursus Deventer 20260523
URL:https://www.ehbodocent.eu/scholing/p-bls-aed-i-nrr/aanmelden/alle-p-bls
 -scholingen/evenement/594-nrr-i-vervolgcursus-deventer-20260523
END:VEVENT
END:VCALENDAR
