BEGIN:VCALENDAR
VERSION:2.0
PRODID:-//https://www.ehbodocent.eu///NONSGML kigkonsult.se iCalcreator 2.10.15//
METHOD:PUBLISH
BEGIN:VEVENT
UID:20260424T154749UTC-4258LhNS7X@https://www.ehbodocent.eu/
DTSTAMP:20260424T154749Z
DESCRIPTION:&nbsp\;\n\n\n\n\n\nLET OP: om gebruik te kunnen maken van het v
 erlaagde ledentarief dient u eerst in te loggen met uw NODE account.\n\n\n
 Datum:\nZaterdag 9 mei 2026\n\n\n(P)BLS/AED:\n09:00 - 17:00 uur (leden € 1
 30\,- / niet-leden € 250\,-)\n\n\n\n\n\n\nPlaats:\nActiviteitencentrum De 
 Slotjes\n\n\n\nSlotjesveld 15\n\n\n\n4902 ZP Oosterhout\n\n\n\n\n\n&nbsp\;
  https://www.ehbodocent.eu/scholing/p-bls-aed-i-nrr/aanmelden/alle-p-bls-s
 cholingen/evenement/574-nrr-i-vervolgcursus-oosterhout-20260509
DTSTART:20260509T070000Z
DTEND:20260509T150000Z
LOCATION:Activiteitencentrum De Slotjes (Slotjesveld 15\, 4902 ZP  Oosterho
 ut\, Nederland)
SUMMARY:NRR-I vervolgcursus Oosterhout 20260509
URL:https://www.ehbodocent.eu/scholing/p-bls-aed-i-nrr/aanmelden/alle-p-bls
 -scholingen/evenement/574-nrr-i-vervolgcursus-oosterhout-20260509
END:VEVENT
END:VCALENDAR
